BEGIN:VCALENDAR
VERSION:2.0
PRODID:-//Município do Marco de Canaveses - ECPv6.15.17//NONSGML v1.0//EN
CALSCALE:GREGORIAN
METHOD:PUBLISH
X-WR-CALNAME:Município do Marco de Canaveses
X-ORIGINAL-URL:https://www.cm-marco-canaveses.pt
X-WR-CALDESC:Eventos para Município do Marco de Canaveses
REFRESH-INTERVAL;VALUE=DURATION:PT1H
X-Robots-Tag:noindex
X-PUBLISHED-TTL:PT1H
BEGIN:VTIMEZONE
TZID:Europe/Lisbon
BEGIN:DAYLIGHT
TZOFFSETFROM:+0000
TZOFFSETTO:+0100
TZNAME:WEST
DTSTART:20230326T010000
END:DAYLIGHT
BEGIN:STANDARD
TZOFFSETFROM:+0100
TZOFFSETTO:+0000
TZNAME:WET
DTSTART:20231029T010000
END:STANDARD
BEGIN:DAYLIGHT
TZOFFSETFROM:+0000
TZOFFSETTO:+0100
TZNAME:WEST
DTSTART:20240331T010000
END:DAYLIGHT
BEGIN:STANDARD
TZOFFSETFROM:+0100
TZOFFSETTO:+0000
TZNAME:WET
DTSTART:20241027T010000
END:STANDARD
BEGIN:DAYLIGHT
TZOFFSETFROM:+0000
TZOFFSETTO:+0100
TZNAME:WEST
DTSTART:20250330T010000
END:DAYLIGHT
BEGIN:STANDARD
TZOFFSETFROM:+0100
TZOFFSETTO:+0000
TZNAME:WET
DTSTART:20251026T010000
END:STANDARD
END:VTIMEZONE
BEGIN:VEVENT
DTSTART;TZID=Europe/Lisbon:20240519T080000
DTEND;TZID=Europe/Lisbon:20240519T150000
DTSTAMP:20260421T220800
CREATED:20240508T163547Z
LAST-MODIFIED:20240508T163547Z
UID:19284-1716105600-1716130800@www.cm-marco-canaveses.pt
SUMMARY:X Festival de Percursos Pedestres do Marco de Canaveses
DESCRIPTION:A Secção de Pedestrianismo da Associação dos Amigos do Rio Ovelha (AARO) e a Câmara Municipal do Marco de Canaveses vão organizar\, no dia 19 de maio\, o X Festival de Percursos Pedestres do Marco de Canaveses. \nSob o tema “Caminhar pelo Desporto e pela Natureza”\, a atividade tem como intuito divulgar os percursos pedestres sinalizados existentes no concelho\, bem como promover a prática do pedestrianismo e as atividades desenvolvidas por outras associações e clubes da região\, em prol da natureza e do desporto ao ar livre. \nA abertura do secretariado será no Pavilhão da EB 2\,3 Carmen Miranda (coordenadas GPS 41°11’28.9″N 8°08’41.4″W)\, pelas 08h00\, onde os participantes\, para além de poderem optar pelo percurso que pretendem conhecer ou redescobrir\, poderão também\, no final da caminhada\, visitar uma exposição onde outras associações e clubes irão divulgar e partilhar as suas atividades e o seu trabalho\, bem como conhecer um pouco mais sobre a região. \nMais mais informações e inscrições\, até 11 de maio: \nhttps://docs.google.com/forms/d/e/1FAIpQLScHGm9yh9JebpPDhPHlzgmXEg-UGTGO-SgYyUiYR3xwqVyBtA/viewform
URL:https://www.cm-marco-canaveses.pt/evento/x-festival-de-percursos-pedestres-do-marco-de-canaveses/
LOCATION:EB 2\,3 Carmen Miranda\, Av. Futebol Clube do Marco\, 107\, Marco de Canaveses\, 4630-276\, Portugal
CATEGORIES:Desporto
ATTACH;FMTTYPE=image/jpeg:https://www.cm-marco-canaveses.pt/wp-content/uploads/2024/05/170716_CARTAZ-A3-refa-festival-de-percursos-2024-2-scaled.jpg
END:VEVENT
END:VCALENDAR