BEGIN:VCALENDAR
VERSION:2.0
PRODID:-//Município do Marco de Canaveses - ECPv6.15.17//NONSGML v1.0//EN
CALSCALE:GREGORIAN
METHOD:PUBLISH
X-ORIGINAL-URL:https://www.cm-marco-canaveses.pt
X-WR-CALDESC:Eventos para Município do Marco de Canaveses
REFRESH-INTERVAL;VALUE=DURATION:PT1H
X-Robots-Tag:noindex
X-PUBLISHED-TTL:PT1H
BEGIN:VTIMEZONE
TZID:Europe/Lisbon
BEGIN:DAYLIGHT
TZOFFSETFROM:+0000
TZOFFSETTO:+0100
TZNAME:WEST
DTSTART:20230326T010000
END:DAYLIGHT
BEGIN:STANDARD
TZOFFSETFROM:+0100
TZOFFSETTO:+0000
TZNAME:WET
DTSTART:20231029T010000
END:STANDARD
BEGIN:DAYLIGHT
TZOFFSETFROM:+0000
TZOFFSETTO:+0100
TZNAME:WEST
DTSTART:20240331T010000
END:DAYLIGHT
BEGIN:STANDARD
TZOFFSETFROM:+0100
TZOFFSETTO:+0000
TZNAME:WET
DTSTART:20241027T010000
END:STANDARD
BEGIN:DAYLIGHT
TZOFFSETFROM:+0000
TZOFFSETTO:+0100
TZNAME:WEST
DTSTART:20250330T010000
END:DAYLIGHT
BEGIN:STANDARD
TZOFFSETFROM:+0100
TZOFFSETTO:+0000
TZNAME:WET
DTSTART:20251026T010000
END:STANDARD
END:VTIMEZONE
BEGIN:VEVENT
DTSTART;VALUE=DATE:20240717
DTEND;VALUE=DATE:20240722
DTSTAMP:20260420T023506
CREATED:20240627T114724Z
LAST-MODIFIED:20240730T134008Z
UID:19472-1721174400-1721606399@www.cm-marco-canaveses.pt
SUMMARY:Festas do Marco 2024
DESCRIPTION:A edição de 2024 das Festas do Marco decorre entre os dias 17 e 21 de julho\, com muita música\, gastronomia\, vinhos verdes\, artesanato\, animação e divertimentos para todas as idades. \nAs Festas do Marco são um momento marcante para o Concelho\, um evento criado à volta das pessoas\, dos artistas\, da convivência e da cultura. Mais do que uma festa\, é uma celebração de todos e para todos. \nPrograma: \n17 DE JULHO – QUARTA-FEIRA \n19h00-Arruada de Bombos: Grupo de Bombos de Santa Maria Maior de Penha Longa – Junto à Câmara Municipal \n19h30– Inauguração da Feira de Artesanato – Jardim Municipal\nHorários da Feira de Artesanato: 17\, 18 e 19: das 20h00 às 24h00 / 20 e 21: das 16h00 às 24h00 \n20h00– Inauguração da Festa dos Bons Petiscos e do Vinho Verde – Rua Edgar Cardoso\nHorários da Festa dos Bons Petiscos e do Vinho Verde: De 17 a 21: das 19h00 às 24h00 \n21h30– Vozes do Tâmega – Jardim Municipal \n22h30– Fernando Daniel – Parque Liberdade \n00h30– Animação com Dj – Parque Liberdade \n18 DE JULHO – QUINTA FEIRA \n21h30-Martim – Jardim Municipal \n22h30-José Malhoa – Parque Liberdade \n00h30– Animação com Dj – Parque Liberdade \n19 DE JULHO – SEXTA FEIRA \n09h30 – XXVI Concurso de Vinhos do Marco – Rota dos Vinhos do Marco – Quinta do Beiral \n21h00 -Concerto Encerramento Gestos – 5.º Estágio Orquestra Sinfónica da Artâmega\, com o Maestro Miguel Sepúlveda\nPavilhão da Escola Sec. do Marco de Canaveses \n21h30– Ana Klaudia – Jardim Municipal \n22h30 -Mickael Carreira – Parque Liberdade \n00h30 -Animação com Dj – Parque Liberdade \n20 DE JULHO – SÁBADO \n14h00– Torneio Velhas Guardas em Hóquei Patins – Pavilhão Bernardino Coutinho / Organização: Hóquei Clube do Marco \n15h00– XXI Convívio de Cicloturismo da Associação Recreativa de Tuías – Campo de Jogos da Associação Recreativa de Tuías / Organização: Associação Recreativa de Tuías \n21h30– Tradição D`Ouro – Jardim Municipal \n22h30– Carolina Deslandes – Parque Liberdade \n00h00– Espetáculo Piromusical – Parque Liberdade \n00h30– Plutonio – Parque Liberdade \n01h30– Animação com Dj – Parque Liberdade \n21 DE JULHO – DOMINGO \n09h30 – Entrada da Banda de Música de Vila Boa de Quires – Ruas da Cidade \n09h30– Taça do Município de Pesca Desportiva – Albufeira do Torrão – Rio Tâmega / Organização: Amadores de Pesca do Marco e Município de Marco de Canaveses \n11h30– Missa Solene – Igreja de Santa Maria \n17h30– Entrada da Fanfarra CNE Ronfe – Guimarães – Ruas da Cidade \n18h30– Majestosa Procissão em Honra de Santa Marinha – Igreja de Santa Maria – Igreja de Santa Marinha \n21h30– Mini-concerto da Orquestra Juvenil da Banda de Música de Vila Boa de Quires – Jardim Municipal \n22h00– Concerto da Banda de Música de Vila Boa de Quires – Jardim Municipal \n22h30– Quatro e Meia – Parque Liberdade \n00h00– Fogo de Artificio – sessão de encerramento das Festas do Marco – Parque da Cidade \n00h30– Animação com Dj – Parque Liberdade \n17 a 21 Parque de Diversões – Largo da Feira \n 
URL:https://www.cm-marco-canaveses.pt/evento/festas-do-marco-2024/
LOCATION:Marco de Canaveses\, Marco de Canaveses\, Portugal
CATEGORIES:Cultura
ATTACH;FMTTYPE=image/jpeg:https://www.cm-marco-canaveses.pt/wp-content/uploads/2024/06/CMMC_Festas-do-Marco-24_Cartaz_Programa_page-0001.jpg
END:VEVENT
END:VCALENDAR