BEGIN:VCALENDAR
VERSION:2.0
PRODID:-//Município do Marco de Canaveses - ECPv6.15.17//NONSGML v1.0//EN
CALSCALE:GREGORIAN
METHOD:PUBLISH
X-ORIGINAL-URL:https://www.cm-marco-canaveses.pt
X-WR-CALDESC:Eventos para Município do Marco de Canaveses
REFRESH-INTERVAL;VALUE=DURATION:PT1H
X-Robots-Tag:noindex
X-PUBLISHED-TTL:PT1H
BEGIN:VTIMEZONE
TZID:Europe/Lisbon
BEGIN:DAYLIGHT
TZOFFSETFROM:+0000
TZOFFSETTO:+0100
TZNAME:WEST
DTSTART:20230326T010000
END:DAYLIGHT
BEGIN:STANDARD
TZOFFSETFROM:+0100
TZOFFSETTO:+0000
TZNAME:WET
DTSTART:20231029T010000
END:STANDARD
BEGIN:DAYLIGHT
TZOFFSETFROM:+0000
TZOFFSETTO:+0100
TZNAME:WEST
DTSTART:20240331T010000
END:DAYLIGHT
BEGIN:STANDARD
TZOFFSETFROM:+0100
TZOFFSETTO:+0000
TZNAME:WET
DTSTART:20241027T010000
END:STANDARD
BEGIN:DAYLIGHT
TZOFFSETFROM:+0000
TZOFFSETTO:+0100
TZNAME:WEST
DTSTART:20250330T010000
END:DAYLIGHT
BEGIN:STANDARD
TZOFFSETFROM:+0100
TZOFFSETTO:+0000
TZNAME:WET
DTSTART:20251026T010000
END:STANDARD
END:VTIMEZONE
BEGIN:VEVENT
DTSTART;TZID=Europe/Lisbon:20240421T143000
DTEND;TZID=Europe/Lisbon:20240421T143000
DTSTAMP:20260421T003114
CREATED:20240418T112154Z
LAST-MODIFIED:20240418T112154Z
UID:19130-1713709800-1713709800@www.cm-marco-canaveses.pt
SUMMARY:Festival de Bandas Filarmónicas
DESCRIPTION:Este domingo\, dia 21 de abril\, a Câmara Municipal vai organizar um Festival de Bandas Filarmónicas\, integrado no programa de celebração dos 50 Anos do 25 de Abril. \nO evento vai contar com a participação de seis Bandas de Música\, de seis concelhos diferentes\, com a Banda de Música de Vila Boa De Quires a representar o Marco de Canaveses.\nO Festival terá início pelas 14h30\, com um desfile pelas ruas da cidade do Marco\, que começará junto ao Edifício dos Paços do Concelho\, passando depois na Rua Dr. Queirós Ribeiro\, Praça do Movimento das Forças Armadas\, Avenida Dr. Francisco Sá Carneiro\, Avenida Gago Coutinho e Avenida Dr. Artur Melo e Castro.\nO desfile terminará no Estádio Municipal do Marco de Canaveses\, onde vai decorrer o concerto final do evento\, a partir das 15h00. \nBandas participantes:\n▶️ Banda de Música de Vila Boa de Quires (Marco de Canaveses)\n▶️ Banda Visconde de Salreu (Aveiro)\n▶️ Banda de Música de Moreira Maia (Maia)\n▶️ Banda Musical de S. Martinho do Campo (Valongo)\n▶️ Banda Musical de Paço de Sousa (Penafiel)\n▶️ Banda de Música de Sabrosa (Vila Real)
URL:https://www.cm-marco-canaveses.pt/evento/festival-de-bandas-filarmonicas/
LOCATION:Estádio Municipal do Marco de Canaveses\, Av. Dr. Artur Melo e Castro 39\,\, Marco de Canaveses\, 4630-241
CATEGORIES:Cultura
ATTACH;FMTTYPE=image/jpeg:https://www.cm-marco-canaveses.pt/wp-content/uploads/2024/04/CMMC_Festival-de-Bandas-Filarmonicas-2024_Cartaz-A3_page-0001.jpg
END:VEVENT
END:VCALENDAR