BEGIN:VCALENDAR
VERSION:2.0
PRODID:-//Município do Marco de Canaveses - ECPv6.15.17//NONSGML v1.0//EN
CALSCALE:GREGORIAN
METHOD:PUBLISH
X-WR-CALNAME:Município do Marco de Canaveses
X-ORIGINAL-URL:https://www.cm-marco-canaveses.pt
X-WR-CALDESC:Eventos para Município do Marco de Canaveses
REFRESH-INTERVAL;VALUE=DURATION:PT1H
X-Robots-Tag:noindex
X-PUBLISHED-TTL:PT1H
BEGIN:VTIMEZONE
TZID:Europe/Lisbon
BEGIN:DAYLIGHT
TZOFFSETFROM:+0000
TZOFFSETTO:+0100
TZNAME:WEST
DTSTART:20230326T010000
END:DAYLIGHT
BEGIN:STANDARD
TZOFFSETFROM:+0100
TZOFFSETTO:+0000
TZNAME:WET
DTSTART:20231029T010000
END:STANDARD
BEGIN:DAYLIGHT
TZOFFSETFROM:+0000
TZOFFSETTO:+0100
TZNAME:WEST
DTSTART:20240331T010000
END:DAYLIGHT
BEGIN:STANDARD
TZOFFSETFROM:+0100
TZOFFSETTO:+0000
TZNAME:WET
DTSTART:20241027T010000
END:STANDARD
BEGIN:DAYLIGHT
TZOFFSETFROM:+0000
TZOFFSETTO:+0100
TZNAME:WEST
DTSTART:20250330T010000
END:DAYLIGHT
BEGIN:STANDARD
TZOFFSETFROM:+0100
TZOFFSETTO:+0000
TZNAME:WET
DTSTART:20251026T010000
END:STANDARD
END:VTIMEZONE
BEGIN:VEVENT
DTSTART;TZID=Europe/Lisbon:20240429T213000
DTEND;TZID=Europe/Lisbon:20240429T213000
DTSTAMP:20260420T082444
CREATED:20240418T155400Z
LAST-MODIFIED:20240418T155400Z
UID:19150-1714426200-1714426200@www.cm-marco-canaveses.pt
SUMMARY:The Emergente Show: Gisela João
DESCRIPTION:Gisela João é a convidada do mês de abril do “The Emergente Show”. A cantora vai estar à conversa com Tiago David no dia 29 de abril\, a partir das 21h30\, no Emergente Centro Cultural\, em Marco de Canaveses. \n“A miúda que apareceu a cantar fado de sapatilhas” está a celebrar dez anos de carreira\, que assinalou\, no início do ano\, com dois eventos especiais em Lisboa e no Porto. \nRecentemente\, a fadista anunciou o espectáculo inédito “Gisela Canta Abril”\, juntamente com o guitarrista espanhol Carles Rodenas Martinez e Luís “Twins” Pereira. Juntos\, exaltam as músicas dos autores e compositores de Abril\, celebrando os 50 anos da democracia portuguesa. Esta colaboração traz uma nova dimensão à celebração da música e da liberdade\, cruzando as ricas tradições musicais entre Portugal e Espanha. \n“Gisela Canta Abril” celebra não apenas a revolução e a democracia pela música; é algo maior\, onde luz\, cor e imagens se encontram para envolver o público numa experiência completa. \nGisela João editou o primeiro álbum de originais em 2013\, que contava com temas como “Meu Amigo Está Longe”\, “Bailarico Saloio” ou “(A Casa da) Mariquinhas”. Em 2016\, a artista lançou “Nua”\, de onde saíram singles como “Senhor Extraterrestre” ou “Noite de São João”. \nEm 2021\, chegou o aclamado disco “Aurora”. “Já Não Choro Por Ti”\, “António Marinheiro” e “Louco” são algumas das canções que fazem parte do álbum. \nA terceira temporada do “The Emergente Show” pode ser acompanhada no TikTok. Na plataforma de entretenimento\, poderá assistir em direito a todas as edições do talk show e rever os melhores momentos das conversas. \nTal como nas duas primeiras temporadas\, o talk show apresentado por Tiago David conta com o apoio da Câmara Municipal do Marco de Canaveses. A Constance House\, Quinta de Santo António\, Bodeguita do Bom Retiro\, Pastelaria Copacabana\, Novibelo\, AgriMarco e Papelaria Tropical são os parceiros do projeto. \nOs bilhetes para o “The Emergente Show” são gratuitos e podem ser levantados presencialmente no Emergente Centro Cultural.
URL:https://www.cm-marco-canaveses.pt/evento/the-emergente-show-gisela-joao/
LOCATION:Emergente Centro Cultural\, Alameda Dr. Miranda da Rocha\, Emergente Centro Cultural\, Marco de Canaveses\, 4630-200\, Portugal
CATEGORIES:Cultura
ATTACH;FMTTYPE=image/jpeg:https://www.cm-marco-canaveses.pt/wp-content/uploads/2024/04/The-Emergente-Show-3_Gisela-Joao_Cartaz_page-0001.jpg
END:VEVENT
END:VCALENDAR