BEGIN:VCALENDAR
VERSION:2.0
PRODID:-//Município do Marco de Canaveses - ECPv6.15.17//NONSGML v1.0//EN
CALSCALE:GREGORIAN
METHOD:PUBLISH
X-ORIGINAL-URL:https://www.cm-marco-canaveses.pt
X-WR-CALDESC:Eventos para Município do Marco de Canaveses
REFRESH-INTERVAL;VALUE=DURATION:PT1H
X-Robots-Tag:noindex
X-PUBLISHED-TTL:PT1H
BEGIN:VTIMEZONE
TZID:Europe/Lisbon
BEGIN:DAYLIGHT
TZOFFSETFROM:+0000
TZOFFSETTO:+0100
TZNAME:WEST
DTSTART:20230326T010000
END:DAYLIGHT
BEGIN:STANDARD
TZOFFSETFROM:+0100
TZOFFSETTO:+0000
TZNAME:WET
DTSTART:20231029T010000
END:STANDARD
BEGIN:DAYLIGHT
TZOFFSETFROM:+0000
TZOFFSETTO:+0100
TZNAME:WEST
DTSTART:20240331T010000
END:DAYLIGHT
BEGIN:STANDARD
TZOFFSETFROM:+0100
TZOFFSETTO:+0000
TZNAME:WET
DTSTART:20241027T010000
END:STANDARD
BEGIN:DAYLIGHT
TZOFFSETFROM:+0000
TZOFFSETTO:+0100
TZNAME:WEST
DTSTART:20250330T010000
END:DAYLIGHT
BEGIN:STANDARD
TZOFFSETFROM:+0100
TZOFFSETTO:+0000
TZNAME:WET
DTSTART:20251026T010000
END:STANDARD
END:VTIMEZONE
BEGIN:VEVENT
DTSTART;VALUE=DATE:20240601
DTEND;VALUE=DATE:20240603
DTSTAMP:20260420T063423
CREATED:20240527T101120Z
LAST-MODIFIED:20240527T101418Z
UID:19401-1717200000-1717372799@www.cm-marco-canaveses.pt
SUMMARY:FLIM – Festival Literário do Marco 2024
DESCRIPTION:Nos dias 1 e 2 de junho\, o Município do Marco de Canaveses volta a promover o FLIM – Festival Literário do Marco\, no Emergente Centro Cultural. \nO programa do evento contará com várias tertúlias e apresentações de livros\, que terão como destaque as participações de Emilene Lima\, Raquel Patriarca\, Minês Castanheira\, Maria Antónia Bastos e Clara Não. \nAo longo dos dois dias do FLIM\, serão várias as iniciativas dedicadas à promoção da leitura\, com um programa diversificado a pensar também nos mais novos e famílias. Na Biblioteca Municipal Poeta Joaquim Monteiro\, vão ser realizadas apresentações de livros infantis\, uma Hora do Conto e várias oficinas\, que terão as crianças como público-alvo. \nO programa reserva ainda várias tertúlias e apresentações de livros a decorrerem no Emergente\, onde também funcionará a Feira de Livros\, no sábado e no domingo\, entre as 10h00 e as 23h00. \nFique a par do programa completo do FLIM e venha celebrar a literatura no Marco de Canaveses.
URL:https://www.cm-marco-canaveses.pt/evento/flim-festival-literario-do-marco-2024/
LOCATION:Emergente Centro Cultural\, Alameda Dr. Miranda da Rocha\, Emergente Centro Cultural\, Marco de Canaveses\, 4630-200\, Portugal
CATEGORIES:Cultura
ATTACH;FMTTYPE=image/png:https://www.cm-marco-canaveses.pt/wp-content/uploads/2024/05/CMMC_FLIM-24_Cartaz-A3-1-1.png
END:VEVENT
END:VCALENDAR