BEGIN:VCALENDAR
VERSION:2.0
PRODID:-//Município do Marco de Canaveses - ECPv6.15.17//NONSGML v1.0//EN
CALSCALE:GREGORIAN
METHOD:PUBLISH
X-ORIGINAL-URL:https://www.cm-marco-canaveses.pt
X-WR-CALDESC:Eventos para Município do Marco de Canaveses
REFRESH-INTERVAL;VALUE=DURATION:PT1H
X-Robots-Tag:noindex
X-PUBLISHED-TTL:PT1H
BEGIN:VTIMEZONE
TZID:Europe/Lisbon
BEGIN:DAYLIGHT
TZOFFSETFROM:+0000
TZOFFSETTO:+0100
TZNAME:WEST
DTSTART:20230326T010000
END:DAYLIGHT
BEGIN:STANDARD
TZOFFSETFROM:+0100
TZOFFSETTO:+0000
TZNAME:WET
DTSTART:20231029T010000
END:STANDARD
BEGIN:DAYLIGHT
TZOFFSETFROM:+0000
TZOFFSETTO:+0100
TZNAME:WEST
DTSTART:20240331T010000
END:DAYLIGHT
BEGIN:STANDARD
TZOFFSETFROM:+0100
TZOFFSETTO:+0000
TZNAME:WET
DTSTART:20241027T010000
END:STANDARD
BEGIN:DAYLIGHT
TZOFFSETFROM:+0000
TZOFFSETTO:+0100
TZNAME:WEST
DTSTART:20250330T010000
END:DAYLIGHT
BEGIN:STANDARD
TZOFFSETFROM:+0100
TZOFFSETTO:+0000
TZNAME:WET
DTSTART:20251026T010000
END:STANDARD
END:VTIMEZONE
BEGIN:VEVENT
DTSTART;VALUE=DATE:20240617
DTEND;VALUE=DATE:20240620
DTSTAMP:20260420T062710
CREATED:20240613T103452Z
LAST-MODIFIED:20240613T103836Z
UID:19448-1718582400-1718841599@www.cm-marco-canaveses.pt
SUMMARY:Audição de Classes de Conjunto- Artâmega
DESCRIPTION:Orquestra de Cordas Friccionadas\nOrquestra de Guitarras\nOrquestra de Flautas\nSegunda-feira\, 17 de junho\, às 19h00\, no Emergente \nOrquestra do 2.º Ciclo\nOrquestra de Sopros e Percussão\nQuarta-feira\, 19 de junho\, às 19h00\, no Emergente  \nOs bilhetes para os espetáculos são gratuitos e podem ser levantados presencialmente no Emergente. \nHorário:\n➡️ De Segunda a Sexta: 9h30-12h30 e 14h00-18h00\n➡️ Sábado: 9h30-12h30
URL:https://www.cm-marco-canaveses.pt/evento/audicao-de-classes-de-conjunto-artamega/
LOCATION:Emergente Centro Cultural\, Alameda Dr. Miranda da Rocha\, Emergente Centro Cultural\, Marco de Canaveses\, 4630-200\, Portugal
CATEGORIES:Cultura
ATTACH;FMTTYPE=image/jpeg:https://www.cm-marco-canaveses.pt/wp-content/uploads/2024/06/448250633_466050505970286_3900763291127374203_n.jpg
END:VEVENT
END:VCALENDAR