BEGIN:VCALENDAR
VERSION:2.0
PRODID:-//Município do Marco de Canaveses - ECPv6.15.17//NONSGML v1.0//EN
CALSCALE:GREGORIAN
METHOD:PUBLISH
X-WR-CALNAME:Município do Marco de Canaveses
X-ORIGINAL-URL:https://www.cm-marco-canaveses.pt
X-WR-CALDESC:Eventos para Município do Marco de Canaveses
REFRESH-INTERVAL;VALUE=DURATION:PT1H
X-Robots-Tag:noindex
X-PUBLISHED-TTL:PT1H
BEGIN:VTIMEZONE
TZID:Europe/Lisbon
BEGIN:DAYLIGHT
TZOFFSETFROM:+0000
TZOFFSETTO:+0100
TZNAME:WEST
DTSTART:20230326T010000
END:DAYLIGHT
BEGIN:STANDARD
TZOFFSETFROM:+0100
TZOFFSETTO:+0000
TZNAME:WET
DTSTART:20231029T010000
END:STANDARD
BEGIN:DAYLIGHT
TZOFFSETFROM:+0000
TZOFFSETTO:+0100
TZNAME:WEST
DTSTART:20240331T010000
END:DAYLIGHT
BEGIN:STANDARD
TZOFFSETFROM:+0100
TZOFFSETTO:+0000
TZNAME:WET
DTSTART:20241027T010000
END:STANDARD
BEGIN:DAYLIGHT
TZOFFSETFROM:+0000
TZOFFSETTO:+0100
TZNAME:WEST
DTSTART:20250330T010000
END:DAYLIGHT
BEGIN:STANDARD
TZOFFSETFROM:+0100
TZOFFSETTO:+0000
TZNAME:WET
DTSTART:20251026T010000
END:STANDARD
END:VTIMEZONE
BEGIN:VEVENT
DTSTART;TZID=Europe/Lisbon:20240809T220000
DTEND;TZID=Europe/Lisbon:20240810T040000
DTSTAMP:20260420T023615
CREATED:20240730T133813Z
LAST-MODIFIED:20240802T152631Z
UID:19526-1723240800-1723262400@www.cm-marco-canaveses.pt
SUMMARY:Montedeiras 2024
DESCRIPTION:Após o tão esperado regresso em 2023\, o Festival de Montedeiras promete entusiasmar de novo a juventude do Marco de Canaveses com mais um grande cartaz em 2024!\n\n\nPrograma Completo: \n9 de Agosto – Sexta-feira 22h00 \nDouble G \nJohnny D & Pablo \nBezegol \nProfJam \nDJ RAYA \nDJ Pedrinho \nHenrik Soares \nBaar \nNavarro \n  \n10 de Agosto – Sábado 22h00 \n  \nGazelas \nFreixo \nCapitão Fausto \nVan Zee \nDJ Juan \nDJ Marcelo Silva \nKhay \nPedro Leo b2b Cabral
URL:https://www.cm-marco-canaveses.pt/evento/montedeiras-2024/
LOCATION:Parque de Merendas de Montedeiras\, Rua das Montedeiras\, Marco de Canaveses\, Portugal
CATEGORIES:Cultura,Juventude
ATTACH;FMTTYPE=image/png:https://www.cm-marco-canaveses.pt/wp-content/uploads/2024/07/Montedeiras-2024.png
END:VEVENT
END:VCALENDAR