BEGIN:VCALENDAR
VERSION:2.0
PRODID:-//Município do Marco de Canaveses - ECPv6.15.17//NONSGML v1.0//EN
CALSCALE:GREGORIAN
METHOD:PUBLISH
X-ORIGINAL-URL:https://www.cm-marco-canaveses.pt
X-WR-CALDESC:Eventos para Município do Marco de Canaveses
REFRESH-INTERVAL;VALUE=DURATION:PT1H
X-Robots-Tag:noindex
X-PUBLISHED-TTL:PT1H
BEGIN:VTIMEZONE
TZID:Europe/Lisbon
BEGIN:DAYLIGHT
TZOFFSETFROM:+0000
TZOFFSETTO:+0100
TZNAME:WEST
DTSTART:20200329T010000
END:DAYLIGHT
BEGIN:STANDARD
TZOFFSETFROM:+0100
TZOFFSETTO:+0000
TZNAME:WET
DTSTART:20201025T010000
END:STANDARD
BEGIN:DAYLIGHT
TZOFFSETFROM:+0000
TZOFFSETTO:+0100
TZNAME:WEST
DTSTART:20210328T010000
END:DAYLIGHT
BEGIN:STANDARD
TZOFFSETFROM:+0100
TZOFFSETTO:+0000
TZNAME:WET
DTSTART:20211031T010000
END:STANDARD
BEGIN:DAYLIGHT
TZOFFSETFROM:+0000
TZOFFSETTO:+0100
TZNAME:WEST
DTSTART:20220327T010000
END:DAYLIGHT
BEGIN:STANDARD
TZOFFSETFROM:+0100
TZOFFSETTO:+0000
TZNAME:WET
DTSTART:20221030T010000
END:STANDARD
END:VTIMEZONE
BEGIN:VEVENT
DTSTART;TZID=Europe/Lisbon:20211114T083000
DTEND;TZID=Europe/Lisbon:20211114T170000
DTSTAMP:20260422T202945
CREATED:20211110T091051Z
LAST-MODIFIED:20211110T091051Z
UID:11540-1636878600-1636909200@www.cm-marco-canaveses.pt
SUMMARY:Rota Abrigo de Montanha - Caminhada Solidária pelos Direitos das Crianças
DESCRIPTION:A caminhada Rota Abrigo de Montanha\, este ano é uma CAMINHADA SOLIDÁRIA PELOS DIREITOS DAS CRIANÇAS. \nEsta caminhada é GRATUITA\, mas de CONTRIBUIÇÃO OBRIGATÓRIA EM GÉNEROS ALIMENTARES\, de acordo com a lista abaixo descrita\, que serão encaminhados pela AARO e CPCJmc para a CAFAP – CENTRO DE APOIO FAMILIAR E ACONSELHAMENTO PARENTAL – Centro Social de São Martinho de Soalhães\, que depois os distribuirá aos mais carenciados do nosso concelho. \nLISTA DE BENS QUE PODE OFERECER:\n-enlatados (atum\, grão\, feijão);\n-cereais;\n-bolachas;\n-arroz;\n-massa;\n-leite;\n-papas de bebé;\n-azeite;\n-óleo;\n-farinha. \nQUAL A MISSÃO DA CPCJmc E O PORQUÊ DESTA ATIVIDADE:\n“A Comissão de Promoção e Proteção de Crianças e Jovens do Marco de Canaveses\, CPCJmc\, tem como principal Missão proteger as Crianças e Jovens em Perigo por forma a garantir o seu bem-estar e desenvolvimento integral.\nEmpenhados no dever que nos assiste\, vimos assim\, responder ao repto lançado pela Comissão Nacional de Promoção dos Direitos das Crianças e Jovens em celebrar o 32.º Aniversário da Assinatura da Convenção dos Direitos das Criança\, que se comemora no dia 20 de novembro.\nNeste âmbito e\, no presente ano\, entre outras atividades a realizar com os Estabelecimentos de Educação e Ensino\, iremos aliar-nos à “Associação dos Amigos do Rio Ovelha”\, entidade com interesse em Educação Ambiental\, com o objetivo principal de promover uma caminhada solidária.\nEsta iniciativa tem como finalidade a recolha de bens alimentares destinados a famílias em situação de vulnerabilidade social\, acompanhadas pelo Centro de Apoio Familiar e Acolhimento Parental – CAFAP – resposta social integrada no Centro Social de S. Martinho de Soalhães.” \nPROGRAMA previsto:\n14 de novembro\n08h30 – Abertura do Secretariado no Abrigo de Montanha da Venda da Giesta;\n09h15 – Início da caminhada;\n13h00 – Almoço Convívio com o lema “Leva do Teu e Come de Todos”;\n15h30 – Tradicional Magusto; \nFICHA TÉCNICA DO PERCURSO:\nNome: Rota Abrigos de Montanha;\nTipo de percurso: Circular de Pequena Rota\nExtensão: 8kms\nDuração: 03h00m aproximadamente\nGrau de dificuldade: fácil/médio\nÂmbito: ambiental\, cultural\, paisagístico e desportivo\nÉpoca aconselhada: todo o ano. \nINSCRIÇÕES GRÁTIS\, mas OBRIGATÓRIAS por causa do Seguro.\nINSCREVA-SE JÁ\, POIS TEMOS 200 T-SHIRTS PARA OFERECER ÀS PRIMEIRAS 200 INSCRIÇÕES. \nFAÇA A SUA INSCRIÇÃO ATRAVÉS DO FORMULÁRIO: https://docs.google.com/forms/d/e/1FAIpQLSdL8WGlwMnVNFSPMd89L1TPljKDfHOHDoXdPLilCmVML9ZdjA/viewform?fbclid=IwAR27RcsMlQDH2Lytr54dvwN-XZou2XdF1OdbKpQ4OZKtTI_wZNpV-Ot58j8 \nSeguro é obrigatório para quem não tiver licença desportiva\, segundo Dec-Lei n.10 de Janeiro de 2009. \nACONSELHAMENTO TÉCNICO:\nA organização aconselha todos os participantes a munirem-se do seguinte equipamento:\n– Calçado apropriado para caminhadas (por exemplo: botas de caminhada ou sapatilhas com sola antiderrapante);\n– Vestuário confortável para caminhar e adequado à época do ano: roupa leve\, de secagem rápida e isolante do frio (se for o caso);\n– Água/barras energéticas/peça de fruta\, etc;\n– Não se esqueça da máquina fotográfica para registar os melhores momentos. \nORGANIZAÇÃO:\nSecção de Pedestrianismo da AARO\nCPCJ – Comissão de Proteção de Crianças e Jovens em Risco\nCAFAP – Centro de Apoio Familiar e Aconselhamento Parental \nPARCERIA:\nCâmara Municipal de Marco de Canaveses\nJunta de Freguesia de Soalhães \nAPOIO:\nFederação de Campismo e Montanhismo de Portugal\nIPDJ – Instituto Português Desporto e Juventude\nDiamantino Seguros\nTURBOCONSTROI \nCOLABORAÇÃO:\nJornal A Verdade\nRádio Marcoense\nPortal TâmegaSousa.pt\nVisite Comigo\nRádio Montemuro
URL:https://www.cm-marco-canaveses.pt/evento/rota-abrigo-de-montanha-caminhada-solidaria-pelos-direitos-das-criancas/
CATEGORIES:Social
ATTACH;FMTTYPE=image/jpeg:https://www.cm-marco-canaveses.pt/wp-content/uploads/2021/11/157330_cartaz-rota-abrigo-montanha-1.jpg
END:VEVENT
BEGIN:VEVENT
DTSTART;VALUE=DATE:20211119
DTEND;VALUE=DATE:20211129
DTSTAMP:20260422T202945
CREATED:20211116T095041Z
LAST-MODIFIED:20211116T101546Z
UID:11563-1637280000-1638143999@www.cm-marco-canaveses.pt
SUMMARY:Exposição "Mercadoria Humana"
DESCRIPTION:A ONGD Saúde em Português\, no âmbito do projeto Mercadoria Humana #Norte – Projeto de Sensibilização em Tráfico de Seres Humanos\, em parceria com a Fundação Santo António\, no âmbito da atuação do Projeto Caerus CLDS 4G\, e com a colaboração do Município do Marco de Canaveses\, vai inaugurar a Exposição Mercadoria Humana | Fotografia e Artes Plásticas\, sensibilizando a comunidade marcuense para o Tráfico de Seres Humanos com recurso à arte enquanto poderoso meio de consciencialização e de transformação social. \nEsta exposição estará patente no Emergente – Centro Cultural\, no Marco de Canaveses\, entre os dias 19 e 28 de novembro de 2021. \nA inauguração acontecerá no dia 19 de novembro\, pelas 10h30. Poderá ser visitada gratuitamente entre as 9h30 e as 12h30 e as 14h00 e as 18h00\, de segunda a sexta-feira. Ao sábado\, as visitas decorrerão entre as 09h30 e as 12h30.
URL:https://www.cm-marco-canaveses.pt/evento/exposicao-mercadoria-humana/
LOCATION:Emergente Centro Cultural\, Alameda Dr. Miranda da Rocha\, Emergente Centro Cultural\, Marco de Canaveses\, 4630-200\, Portugal
CATEGORIES:Cultura,Social
ATTACH;FMTTYPE=image/jpeg:https://www.cm-marco-canaveses.pt/wp-content/uploads/2021/11/Mercadoria-Humana.jpg
END:VEVENT
END:VCALENDAR