BEGIN:VCALENDAR
VERSION:2.0
PRODID:-//Município do Marco de Canaveses - ECPv6.15.17//NONSGML v1.0//EN
CALSCALE:GREGORIAN
METHOD:PUBLISH
X-ORIGINAL-URL:https://www.cm-marco-canaveses.pt
X-WR-CALDESC:Eventos para Município do Marco de Canaveses
REFRESH-INTERVAL;VALUE=DURATION:PT1H
X-Robots-Tag:noindex
X-PUBLISHED-TTL:PT1H
BEGIN:VTIMEZONE
TZID:UTC
BEGIN:STANDARD
TZOFFSETFROM:+0000
TZOFFSETTO:+0000
TZNAME:UTC
DTSTART:20210101T000000
END:STANDARD
END:VTIMEZONE
BEGIN:VEVENT
DTSTART;TZID=UTC:20220305T180000
DTEND;TZID=UTC:20220305T180000
DTSTAMP:20260422T132029
CREATED:20220307T112745Z
LAST-MODIFIED:20220307T112745Z
UID:12227-1646503200-1646503200@www.cm-marco-canaveses.pt
SUMMARY:Teatro "Entre Nós"
DESCRIPTION:Iniciativa promovida pela Comissão de Proteção de Crianças e Jovens do Marco de Canaveses em parceria com o Município e Artâmega\, no âmbito da Prevenção Contra os Maus Tratos na Infância e Juventude. \n“Entre Nós” é uma peça sobre violência no namoro\, particularmente direcionada aos alunos do 3.º Ciclo e Secundário no dia 4 e o dia 5 de março para a comunidade em geral. \n  \nENTRE NÓS \n“Somos um grupo de crianças\, adolescentes e jovens. Estamos aqui hoje para vos falar de Amor e Respeito. São palavras que todos conhecemos\, mas que são muito fáceis de transgredir. \nPode parecer-vos um pouco estranho que alguém tão novo tenha algo de importante ou pertinente a dizer sobre o assunto\, mas julgar pelas aparências ou guiarmo-nos por preconceitos\, nem sempre nos leva aos melhores destinos. \nAssim sendo\, pedimos que confiem em nós\, e que fiquem connosco. Todos podemos aprender e refletir com os outros – com os nossos pares\, com os mais velhos e também com os mais novos”. \nGrupo de Teatro Companhia dos Bugalhos (Artâmega) \n  \nBilhetes gratuitos e disponíveis a partir de sábado\, 26 de fevereiro\, no Emergente.
URL:https://www.cm-marco-canaveses.pt/evento/teatro-entre-nos/
LOCATION:Emergente Centro Cultural\, Alameda Dr. Miranda da Rocha\, Emergente Centro Cultural\, Marco de Canaveses\, 4630-200\, Portugal
CATEGORIES:Cultura,Social
ATTACH;FMTTYPE=image/png:https://www.cm-marco-canaveses.pt/wp-content/uploads/2022/03/CMMC_Teatro-Entre-Nos_Cartaz-1.png
END:VEVENT
END:VCALENDAR