BEGIN:VCALENDAR
VERSION:2.0
PRODID:-//Município do Marco de Canaveses - ECPv6.15.17//NONSGML v1.0//EN
CALSCALE:GREGORIAN
METHOD:PUBLISH
X-WR-CALNAME:Município do Marco de Canaveses
X-ORIGINAL-URL:https://www.cm-marco-canaveses.pt
X-WR-CALDESC:Eventos para Município do Marco de Canaveses
REFRESH-INTERVAL;VALUE=DURATION:PT1H
X-Robots-Tag:noindex
X-PUBLISHED-TTL:PT1H
BEGIN:VTIMEZONE
TZID:UTC
BEGIN:STANDARD
TZOFFSETFROM:+0000
TZOFFSETTO:+0000
TZNAME:UTC
DTSTART:20210101T000000
END:STANDARD
END:VTIMEZONE
BEGIN:VEVENT
DTSTART;TZID=UTC:20220815T110000
DTEND;TZID=UTC:20220815T170000
DTSTAMP:20260422T061536
CREATED:20220809T132303Z
LAST-MODIFIED:20220809T132728Z
UID:12991-1660561200-1660582800@www.cm-marco-canaveses.pt
SUMMARY:Festa do Emigrante 2022
DESCRIPTION:Festa do Emigrante 2022\, no Santuário da Nossa Senhora da Natividade do Castelinho\, dia 15 de agosto.\n\nPrograma:\n11:00h – Missa\n12:30h – Almoço convívio:\n14:30h – Animação Musical “Paulo Ramos e Amigos”
URL:https://www.cm-marco-canaveses.pt/evento/festa-do-emigrante-2022/
CATEGORIES:Cultura,Social
ATTACH;FMTTYPE=image/png:https://www.cm-marco-canaveses.pt/wp-content/uploads/2022/08/Captura-de-ecrã-2022-08-09-às-14.22.35.png
END:VEVENT
END:VCALENDAR