BEGIN:VCALENDAR
VERSION:2.0
PRODID:-//Município do Marco de Canaveses - ECPv6.15.17//NONSGML v1.0//EN
CALSCALE:GREGORIAN
METHOD:PUBLISH
X-ORIGINAL-URL:https://www.cm-marco-canaveses.pt
X-WR-CALDESC:Eventos para Município do Marco de Canaveses
REFRESH-INTERVAL;VALUE=DURATION:PT1H
X-Robots-Tag:noindex
X-PUBLISHED-TTL:PT1H
BEGIN:VTIMEZONE
TZID:UTC
BEGIN:STANDARD
TZOFFSETFROM:+0000
TZOFFSETTO:+0000
TZNAME:UTC
DTSTART:20210101T000000
END:STANDARD
END:VTIMEZONE
BEGIN:VEVENT
DTSTART;TZID=UTC:20221022T090000
DTEND;TZID=UTC:20221022T130000
DTSTAMP:20260422T023906
CREATED:20221014T153710Z
LAST-MODIFIED:20221014T153809Z
UID:13446-1666429200-1666443600@www.cm-marco-canaveses.pt
SUMMARY:Jornadas Municipais da Igualdade 2022
DESCRIPTION:Inscrições em: cm-marco-canaveses.pt/jornadasigualdade/ \n  \nPrograma: \n9:00 Receção dos participantes \n9:30 Sessão de Abertura\n– Cristina Vieira\, Presidente da Câmara Municipal do Marco de Canaveses\n– Elsa Correia\, Conselheira Local para a Igualdade do Marco de Canaveses \n10:00 Apresentação sumária do Plano Municipal para a Igualdade e Não Discriminação 2022-2026 – Marco+Igual\n– Joaquim Santos\, Município do Marco de Canaveses \n10:15 Apresentação do Plano de Formação Marco-Cinfães 2022-2023\, nas vertentes da Educação para a Cidadania\, Direitos Humanos e Igualdade de Género\n– Elsa Correia\, Diretora do CFAE Marco-Cinfães \n10:45 Projeto ART’THEMIS+ Jovens Protagonistas na Prevenção e na Igualdade de Género – Resultados da participação de alun@s do Marco de Canaveses – Ano Letivo 2021/2022\n– Bárbara Rodrigues\, Equipa Multidisciplinar de Apoio #sucessoescolar – Município do Marco de Canaveses \n11:15 Coffee break \n11:45 Mesa Redonda: Recuperar Incluindo: Direitos Humanos\, Igualdade de Género e Educação para a Cidadania\n– Moderação: Elsa Correia\, Conselheira Local para a Igualdade\n– Teodolinda Magro\, Estrutura de Missão do Plano Nacional de Promoção do Sucesso Escolar (PNPSE)\n– Sara Marques\, Psicóloga; formadora do CFAE MarcoCinfães \n12:45 Sessão de encerramento\n– Clara Marques\, Vereadora da Coesão Social\, Cidadania e Promoção da Igualdade
URL:https://www.cm-marco-canaveses.pt/evento/jornadas-municipais-da-igualdade-2022/
LOCATION:Emergente Centro Cultural\, Alameda Dr. Miranda da Rocha\, Emergente Centro Cultural\, Marco de Canaveses\, 4630-200\, Portugal
CATEGORIES:Social
ATTACH;FMTTYPE=image/png:https://www.cm-marco-canaveses.pt/wp-content/uploads/2022/10/Jornadas-Municipais-da-Igualdade-2022_Cartaz_AF-1.png
END:VEVENT
END:VCALENDAR