BEGIN:VCALENDAR
VERSION:2.0
PRODID:-//Município do Marco de Canaveses - ECPv6.15.17//NONSGML v1.0//EN
CALSCALE:GREGORIAN
METHOD:PUBLISH
X-WR-CALNAME:Município do Marco de Canaveses
X-ORIGINAL-URL:https://www.cm-marco-canaveses.pt
X-WR-CALDESC:Eventos para Município do Marco de Canaveses
REFRESH-INTERVAL;VALUE=DURATION:PT1H
X-Robots-Tag:noindex
X-PUBLISHED-TTL:PT1H
BEGIN:VTIMEZONE
TZID:Europe/Lisbon
BEGIN:DAYLIGHT
TZOFFSETFROM:+0000
TZOFFSETTO:+0100
TZNAME:WEST
DTSTART:20200329T010000
END:DAYLIGHT
BEGIN:STANDARD
TZOFFSETFROM:+0100
TZOFFSETTO:+0000
TZNAME:WET
DTSTART:20201025T010000
END:STANDARD
BEGIN:DAYLIGHT
TZOFFSETFROM:+0000
TZOFFSETTO:+0100
TZNAME:WEST
DTSTART:20210328T010000
END:DAYLIGHT
BEGIN:STANDARD
TZOFFSETFROM:+0100
TZOFFSETTO:+0000
TZNAME:WET
DTSTART:20211031T010000
END:STANDARD
BEGIN:DAYLIGHT
TZOFFSETFROM:+0000
TZOFFSETTO:+0100
TZNAME:WEST
DTSTART:20220327T010000
END:DAYLIGHT
BEGIN:STANDARD
TZOFFSETFROM:+0100
TZOFFSETTO:+0000
TZNAME:WET
DTSTART:20221030T010000
END:STANDARD
END:VTIMEZONE
BEGIN:VEVENT
DTSTART;TZID=Europe/Lisbon:20210826T210000
DTEND;TZID=Europe/Lisbon:20210826T210000
DTSTAMP:20260421T171445
CREATED:20210824T132530Z
LAST-MODIFIED:20210824T132530Z
UID:10958-1630011600-1630011600@www.cm-marco-canaveses.pt
SUMMARY:VisitMarco - Apresentação
DESCRIPTION:Apresentação do projeto VisitMarco\, que inclui uma nova plataforma digital de turismo e uma aplicação para smartphone. \nAs novas ferramentas fazem parte da estratégia de desenvolvimento turístico do concelho\, oferecendo uma experiência mais completa a quem visita o Marco de Canaveses \nEntrada livre\, de acordo com as regras de controlo da pandemia em vigor.
URL:https://www.cm-marco-canaveses.pt/evento/visitmarco-apresentacao/
LOCATION:Emergente Centro Cultural\, Alameda Dr. Miranda da Rocha\, Emergente Centro Cultural\, Marco de Canaveses\, 4630-200\, Portugal
CATEGORIES:Turismo
ATTACH;FMTTYPE=image/jpeg:https://www.cm-marco-canaveses.pt/wp-content/uploads/2021/08/CMMC_VisitMarco_Evento_Poster-scaled.jpg
END:VEVENT
END:VCALENDAR