BEGIN:VCALENDAR
VERSION:2.0
PRODID:-//Município do Marco de Canaveses - ECPv6.15.17//NONSGML v1.0//EN
CALSCALE:GREGORIAN
METHOD:PUBLISH
X-WR-CALNAME:Município do Marco de Canaveses
X-ORIGINAL-URL:https://www.cm-marco-canaveses.pt
X-WR-CALDESC:Eventos para Município do Marco de Canaveses
REFRESH-INTERVAL;VALUE=DURATION:PT1H
X-Robots-Tag:noindex
X-PUBLISHED-TTL:PT1H
BEGIN:VTIMEZONE
TZID:Europe/Lisbon
BEGIN:DAYLIGHT
TZOFFSETFROM:+0000
TZOFFSETTO:+0100
TZNAME:WEST
DTSTART:20220327T010000
END:DAYLIGHT
BEGIN:STANDARD
TZOFFSETFROM:+0100
TZOFFSETTO:+0000
TZNAME:WET
DTSTART:20221030T010000
END:STANDARD
BEGIN:DAYLIGHT
TZOFFSETFROM:+0000
TZOFFSETTO:+0100
TZNAME:WEST
DTSTART:20230326T010000
END:DAYLIGHT
BEGIN:STANDARD
TZOFFSETFROM:+0100
TZOFFSETTO:+0000
TZNAME:WET
DTSTART:20231029T010000
END:STANDARD
BEGIN:DAYLIGHT
TZOFFSETFROM:+0000
TZOFFSETTO:+0100
TZNAME:WEST
DTSTART:20240331T010000
END:DAYLIGHT
BEGIN:STANDARD
TZOFFSETFROM:+0100
TZOFFSETTO:+0000
TZNAME:WET
DTSTART:20241027T010000
END:STANDARD
END:VTIMEZONE
BEGIN:VEVENT
DTSTART;TZID=Europe/Lisbon:20230702T203000
DTEND;TZID=Europe/Lisbon:20230702T203000
DTSTAMP:20260419T214506
CREATED:20230623T170709Z
LAST-MODIFIED:20230627T151006Z
UID:16850-1688329800-1688329800@www.cm-marco-canaveses.pt
SUMMARY:Inauguração da Requalificação do Cais e Praia Fluvial de Bitetos
DESCRIPTION:O projeto de requalificação do Cais e Praia Fluvial de Bitetos\, levado a cabo pela Câmara Municipal do Marco de Canaveses\, vai ser inaugurado no dia 2 de julho\, domingo\, com um concerto da fadista Carminho\, às 20h30. \nA requalificação do Cais e Praia Fluvial de Bitetos representou um investimento total do Município de cerca de 1\,9 milhões de euros\, financiado em 1.312.593\,22€ pelo Portugal 2020 e Norte 2020\, através do Fundo Europeu de Desenvolvimento Regional.
URL:https://www.cm-marco-canaveses.pt/evento/inauguracao-da-requalificacao-do-cais-e-praia-fluvial-de-bitetos/
LOCATION:Cais de Bitetos\, Cais de Bitetos\, Rua Conde Vale da Rica\, 50\, Marco de Canaveses\, 4575-431\, Portugal
CATEGORIES:Cultura,Turismo
ATTACH;FMTTYPE=image/jpeg:https://www.cm-marco-canaveses.pt/wp-content/uploads/2023/06/CMMC_Inauguracao-Cais-de-Bitetos_Postal-1-scaled.jpg
END:VEVENT
END:VCALENDAR