BEGIN:VCALENDAR
VERSION:2.0
PRODID:-//Município do Marco de Canaveses - ECPv6.15.17//NONSGML v1.0//EN
CALSCALE:GREGORIAN
METHOD:PUBLISH
X-ORIGINAL-URL:https://www.cm-marco-canaveses.pt
X-WR-CALDESC:Eventos para Município do Marco de Canaveses
REFRESH-INTERVAL;VALUE=DURATION:PT1H
X-Robots-Tag:noindex
X-PUBLISHED-TTL:PT1H
BEGIN:VTIMEZONE
TZID:Europe/Lisbon
BEGIN:DAYLIGHT
TZOFFSETFROM:+0000
TZOFFSETTO:+0100
TZNAME:WEST
DTSTART:20230326T010000
END:DAYLIGHT
BEGIN:STANDARD
TZOFFSETFROM:+0100
TZOFFSETTO:+0000
TZNAME:WET
DTSTART:20231029T010000
END:STANDARD
BEGIN:DAYLIGHT
TZOFFSETFROM:+0000
TZOFFSETTO:+0100
TZNAME:WEST
DTSTART:20240331T010000
END:DAYLIGHT
BEGIN:STANDARD
TZOFFSETFROM:+0100
TZOFFSETTO:+0000
TZNAME:WET
DTSTART:20241027T010000
END:STANDARD
BEGIN:DAYLIGHT
TZOFFSETFROM:+0000
TZOFFSETTO:+0100
TZNAME:WEST
DTSTART:20250330T010000
END:DAYLIGHT
BEGIN:STANDARD
TZOFFSETFROM:+0100
TZOFFSETTO:+0000
TZNAME:WET
DTSTART:20251026T010000
END:STANDARD
END:VTIMEZONE
BEGIN:VEVENT
DTSTART;TZID=Europe/Lisbon:20240419T213000
DTEND;TZID=Europe/Lisbon:20240419T230000
DTSTAMP:20260421T181305
CREATED:20240418T110827Z
LAST-MODIFIED:20240418T112416Z
UID:19127-1713562200-1713567600@www.cm-marco-canaveses.pt
SUMMARY:Filme "Raiva"- Ciclo de Cinema "25 de Abril e Liberdade"
DESCRIPTION:A Câmara Municipal vai promover  sexta-feira\, dia 19 de abril\, às 21h30\, a exibição do filme “Raiva”\, do cineasta brasileiro Sérgio Tréfaut\, no Emergente Centro Cultural\, no âmbito do programa de celebração dos 50 Anos do 25 de Abril. \nA exibição do filme vai também marcar o início do Ciclo de Cinema “25 de Abril e Liberdade”\, promovido pelo Município\, que contará com um total de 5 sessões de cinema sobre o tema\, que vão decorrer ao longo do ano. \nOs bilhetes para a exibição do filme “Raiva” são gratuitos e podem ser levantados presencialmente no Emergente.\nHorário:\nDe Segunda a Sexta: 9h30-12h30 e 14h00-18h00\nSábado: 9h30-12h30 \nSinopse do filme “Raiva”:\nFilme do cineasta brasileiro Sérgio Tréfaut. Um conto negro sobre o abuso e a revolta a partir de “Seara de Vento” de Manuel da Fonseca\, um clássico da literatura portuguesa do século XX. \nAlentejo\, 1950. Nos campos desertos do Sul de Portugal\, fustigados pelo vento e pela fome\, a vida é difícil. Os trabalhadores rurais\, sob o domínio dos grandes proprietários\, trabalham de sol a sol e o que ganham muitas vezes não é suficiente para alimentar a família. Uma noite\, depois de ser vítima de uma grande injustiça\, um homem perde a razão e transforma-se num assassino? \nUm filme sobre a pobreza\, a opressão e as injustiças sociais\, inspirado num caso real acontecido em Beja\, em 1930. \nDuração: 85 minutos
URL:https://www.cm-marco-canaveses.pt/evento/filme-raiva-ciclo-de-cinema-25-de-abril-e-liberdade/
LOCATION:Emergente Centro Cultural\, Alameda Dr. Miranda da Rocha\, Emergente Centro Cultural\, Marco de Canaveses\, 4630-200\, Portugal
CATEGORIES:Cultura
ATTACH;FMTTYPE=image/jpeg:https://www.cm-marco-canaveses.pt/wp-content/uploads/2024/04/CMMC_Ciclo-de-Cinema_Cartaz-1_page-0001.jpg
END:VEVENT
BEGIN:VEVENT
DTSTART;TZID=Europe/Lisbon:20240421T143000
DTEND;TZID=Europe/Lisbon:20240421T143000
DTSTAMP:20260421T181305
CREATED:20240418T112154Z
LAST-MODIFIED:20240418T112154Z
UID:19130-1713709800-1713709800@www.cm-marco-canaveses.pt
SUMMARY:Festival de Bandas Filarmónicas
DESCRIPTION:Este domingo\, dia 21 de abril\, a Câmara Municipal vai organizar um Festival de Bandas Filarmónicas\, integrado no programa de celebração dos 50 Anos do 25 de Abril. \nO evento vai contar com a participação de seis Bandas de Música\, de seis concelhos diferentes\, com a Banda de Música de Vila Boa De Quires a representar o Marco de Canaveses.\nO Festival terá início pelas 14h30\, com um desfile pelas ruas da cidade do Marco\, que começará junto ao Edifício dos Paços do Concelho\, passando depois na Rua Dr. Queirós Ribeiro\, Praça do Movimento das Forças Armadas\, Avenida Dr. Francisco Sá Carneiro\, Avenida Gago Coutinho e Avenida Dr. Artur Melo e Castro.\nO desfile terminará no Estádio Municipal do Marco de Canaveses\, onde vai decorrer o concerto final do evento\, a partir das 15h00. \nBandas participantes:\n▶️ Banda de Música de Vila Boa de Quires (Marco de Canaveses)\n▶️ Banda Visconde de Salreu (Aveiro)\n▶️ Banda de Música de Moreira Maia (Maia)\n▶️ Banda Musical de S. Martinho do Campo (Valongo)\n▶️ Banda Musical de Paço de Sousa (Penafiel)\n▶️ Banda de Música de Sabrosa (Vila Real)
URL:https://www.cm-marco-canaveses.pt/evento/festival-de-bandas-filarmonicas/
LOCATION:Estádio Municipal do Marco de Canaveses\, Av. Dr. Artur Melo e Castro 39\,\, Marco de Canaveses\, 4630-241
CATEGORIES:Cultura
ATTACH;FMTTYPE=image/jpeg:https://www.cm-marco-canaveses.pt/wp-content/uploads/2024/04/CMMC_Festival-de-Bandas-Filarmonicas-2024_Cartaz-A3_page-0001.jpg
END:VEVENT
BEGIN:VEVENT
DTSTART;TZID=Europe/Lisbon:20240423T150000
DTEND;TZID=Europe/Lisbon:20240423T150000
DTSTAMP:20260421T181305
CREATED:20240418T115702Z
LAST-MODIFIED:20240418T115702Z
UID:19141-1713884400-1713884400@www.cm-marco-canaveses.pt
SUMMARY:Conferência de Evocação ao 25 de Abril
DESCRIPTION:A conferência de Evocação ao 25 de Abril irá decorrer no dia 23 de abril\, às 15 horas\, no Emergente. \nEsta conferência contará com a presença do “Capitão de Abril”\, Coronel Rodrigo Sousa e Castro. Será dirigida aos jovens que frequentam o 3ºciclo ou secundário\, mas a entrada é aberta a toda a comunidade.
URL:https://www.cm-marco-canaveses.pt/evento/conferencia-de-evocacao-ao-25-de-abril/
LOCATION:Emergente Centro Cultural\, Alameda Dr. Miranda da Rocha\, Emergente Centro Cultural\, Marco de Canaveses\, 4630-200\, Portugal
CATEGORIES:Conferência
ATTACH;FMTTYPE=image/jpeg:https://www.cm-marco-canaveses.pt/wp-content/uploads/2024/04/CMMC_Conferencia-Evocacao-25-Abril_Cartaz.jpg
END:VEVENT
BEGIN:VEVENT
DTSTART;TZID=Europe/Lisbon:20240425T150000
DTEND;TZID=Europe/Lisbon:20240425T150000
DTSTAMP:20260421T181305
CREATED:20240418T120216Z
LAST-MODIFIED:20240418T131951Z
UID:19143-1714057200-1714057200@www.cm-marco-canaveses.pt
SUMMARY:Inauguração Parque Liberdade
DESCRIPTION:O Parque Urbano da Cidade do Marco de Canaveses\, o novo parque verde no centro da cidade\, vai ser inaugurado no dia 25 de abril e será designado “Parque Liberdade”. \nA obra\, de 1\,2M€ (1.ª fase)\, consistiu na criação de um parque de lazer multifuncional de 14 mil metros quadrados para as famílias marcuenses e será mais uma referência do compromisso da Câmara Municipal com o desenvolvimento sustentável. A inauguração está marcada para as 15h00 e contará com um concerto da Orquestra do Norte e com a apresentação do projeto da segunda fase do parque\, que será para executar de imediato. \nTambém como forma de reforçar a ligação do espaço aos 50 anos do 25 de Abril\, dentro do Parque Liberdade haverá um praça com o nome de Salgueiro Maia\, perpetuando a memória de um dos principais Capitães do 25 de Abril de 1974. A escolha do nome para esta praça foi uma proposta da Associação dos Amigos do Concelho do Marco de Canaveses aprovada pela Câmara Municipal.
URL:https://www.cm-marco-canaveses.pt/evento/inauguracao-parque-liberdade/
LOCATION:Parque da Liberdade\, Parque Urbano da Cidade\, Rua Amália Rodrigues\, 408\, Marco de Canaveses\, 4630-420\, Portugal
ATTACH;FMTTYPE=image/jpeg:https://www.cm-marco-canaveses.pt/wp-content/uploads/2024/04/CMMC_Inauguracao-do-Parque_Cartaz_page-0001.jpg
END:VEVENT
BEGIN:VEVENT
DTSTART;TZID=Europe/Lisbon:20240425T160000
DTEND;TZID=Europe/Lisbon:20240425T160000
DTSTAMP:20260421T181305
CREATED:20240418T120847Z
LAST-MODIFIED:20240418T120847Z
UID:19146-1714060800-1714060800@www.cm-marco-canaveses.pt
SUMMARY:Concerto Orquestra do Norte
DESCRIPTION:A inauguração do Parque da Liberdade irá contar com um concerto da Orquestra do Norte\, a partir das 16 horas.
URL:https://www.cm-marco-canaveses.pt/evento/concerto-orquestra-do-norte/
LOCATION:Parque da Liberdade\, Parque Urbano da Cidade\, Rua Amália Rodrigues\, 408\, Marco de Canaveses\, 4630-420\, Portugal
CATEGORIES:Cultura
ATTACH;FMTTYPE=image/jpeg:https://www.cm-marco-canaveses.pt/wp-content/uploads/2024/04/CMMC_Concerto-Orquestra-do-Norte_Cartaz_page-0001.jpg
END:VEVENT
BEGIN:VEVENT
DTSTART;TZID=Europe/Lisbon:20240428T163000
DTEND;TZID=Europe/Lisbon:20240428T163000
DTSTAMP:20260421T181305
CREATED:20240418T130818Z
LAST-MODIFIED:20240418T130818Z
UID:19148-1714321800-1714321800@www.cm-marco-canaveses.pt
SUMMARY:Teatro Gruta CCL- ReVolta
DESCRIPTION:Integrado nas comemorações do 25 de Abril\, o Gruta CCL leva ao palco do Emergente “ReVolta”\, uma peça de teatro original e inédita com dramaturgia e textos de Fátima Vale\, Jules Michelet\, Federico Garcia Lorca\, Víctor Jara\, Alexandre O´Neill\, Herberto Helder\, Maria Velho da Costa\, Cancioneiro Popular e outros. \n“Revolta” – Teatro poético musical é composto por cenas interligadas que exploram diversas lutas e movimentos sociais ao longo da história. A narrativa é conduzida por uma série de vozes\, cada uma expressando sua perspetiva sobre temas como opressão\, revolta\, resistência e liberdade. \nA peça também inclui momentos de reflexão sobre a natureza da revolta\, o papel das mulheres na resistência e a importância de preservar a memória histórica. \nA direção artística e encenação é de Fátima Vale. A direção\, composição e interpretação musical será de João Luiz Ferraz\, uma referência da música popular e de intervenção. Contará com os talentosos artistas locais\, misturando um elenco profissional com membros da comunidade.
URL:https://www.cm-marco-canaveses.pt/evento/teatro-gruta-ccl-revolta/
LOCATION:Emergente Centro Cultural\, Alameda Dr. Miranda da Rocha\, Emergente Centro Cultural\, Marco de Canaveses\, 4630-200\, Portugal
CATEGORIES:Cultura
ATTACH;FMTTYPE=image/jpeg:https://www.cm-marco-canaveses.pt/wp-content/uploads/2024/04/CMMC_ReVolta_Cartaz_page-0001.jpg
END:VEVENT
BEGIN:VEVENT
DTSTART;TZID=Europe/Lisbon:20240429T213000
DTEND;TZID=Europe/Lisbon:20240429T213000
DTSTAMP:20260421T181305
CREATED:20240418T155400Z
LAST-MODIFIED:20240418T155400Z
UID:19150-1714426200-1714426200@www.cm-marco-canaveses.pt
SUMMARY:The Emergente Show: Gisela João
DESCRIPTION:Gisela João é a convidada do mês de abril do “The Emergente Show”. A cantora vai estar à conversa com Tiago David no dia 29 de abril\, a partir das 21h30\, no Emergente Centro Cultural\, em Marco de Canaveses. \n“A miúda que apareceu a cantar fado de sapatilhas” está a celebrar dez anos de carreira\, que assinalou\, no início do ano\, com dois eventos especiais em Lisboa e no Porto. \nRecentemente\, a fadista anunciou o espectáculo inédito “Gisela Canta Abril”\, juntamente com o guitarrista espanhol Carles Rodenas Martinez e Luís “Twins” Pereira. Juntos\, exaltam as músicas dos autores e compositores de Abril\, celebrando os 50 anos da democracia portuguesa. Esta colaboração traz uma nova dimensão à celebração da música e da liberdade\, cruzando as ricas tradições musicais entre Portugal e Espanha. \n“Gisela Canta Abril” celebra não apenas a revolução e a democracia pela música; é algo maior\, onde luz\, cor e imagens se encontram para envolver o público numa experiência completa. \nGisela João editou o primeiro álbum de originais em 2013\, que contava com temas como “Meu Amigo Está Longe”\, “Bailarico Saloio” ou “(A Casa da) Mariquinhas”. Em 2016\, a artista lançou “Nua”\, de onde saíram singles como “Senhor Extraterrestre” ou “Noite de São João”. \nEm 2021\, chegou o aclamado disco “Aurora”. “Já Não Choro Por Ti”\, “António Marinheiro” e “Louco” são algumas das canções que fazem parte do álbum. \nA terceira temporada do “The Emergente Show” pode ser acompanhada no TikTok. Na plataforma de entretenimento\, poderá assistir em direito a todas as edições do talk show e rever os melhores momentos das conversas. \nTal como nas duas primeiras temporadas\, o talk show apresentado por Tiago David conta com o apoio da Câmara Municipal do Marco de Canaveses. A Constance House\, Quinta de Santo António\, Bodeguita do Bom Retiro\, Pastelaria Copacabana\, Novibelo\, AgriMarco e Papelaria Tropical são os parceiros do projeto. \nOs bilhetes para o “The Emergente Show” são gratuitos e podem ser levantados presencialmente no Emergente Centro Cultural.
URL:https://www.cm-marco-canaveses.pt/evento/the-emergente-show-gisela-joao/
LOCATION:Emergente Centro Cultural\, Alameda Dr. Miranda da Rocha\, Emergente Centro Cultural\, Marco de Canaveses\, 4630-200\, Portugal
CATEGORIES:Cultura
ATTACH;FMTTYPE=image/jpeg:https://www.cm-marco-canaveses.pt/wp-content/uploads/2024/04/The-Emergente-Show-3_Gisela-Joao_Cartaz_page-0001.jpg
END:VEVENT
END:VCALENDAR