BEGIN:VCALENDAR
VERSION:2.0
PRODID:-//Município do Marco de Canaveses - ECPv6.15.17//NONSGML v1.0//EN
CALSCALE:GREGORIAN
METHOD:PUBLISH
X-ORIGINAL-URL:https://www.cm-marco-canaveses.pt
X-WR-CALDESC:Eventos para Município do Marco de Canaveses
REFRESH-INTERVAL;VALUE=DURATION:PT1H
X-Robots-Tag:noindex
X-PUBLISHED-TTL:PT1H
BEGIN:VTIMEZONE
TZID:Europe/Lisbon
BEGIN:DAYLIGHT
TZOFFSETFROM:+0000
TZOFFSETTO:+0100
TZNAME:WEST
DTSTART:20230326T010000
END:DAYLIGHT
BEGIN:STANDARD
TZOFFSETFROM:+0100
TZOFFSETTO:+0000
TZNAME:WET
DTSTART:20231029T010000
END:STANDARD
BEGIN:DAYLIGHT
TZOFFSETFROM:+0000
TZOFFSETTO:+0100
TZNAME:WEST
DTSTART:20240331T010000
END:DAYLIGHT
BEGIN:STANDARD
TZOFFSETFROM:+0100
TZOFFSETTO:+0000
TZNAME:WET
DTSTART:20241027T010000
END:STANDARD
BEGIN:DAYLIGHT
TZOFFSETFROM:+0000
TZOFFSETTO:+0100
TZNAME:WEST
DTSTART:20250330T010000
END:DAYLIGHT
BEGIN:STANDARD
TZOFFSETFROM:+0100
TZOFFSETTO:+0000
TZNAME:WET
DTSTART:20251026T010000
END:STANDARD
END:VTIMEZONE
BEGIN:VEVENT
DTSTART;TZID=Europe/Lisbon:20240519T080000
DTEND;TZID=Europe/Lisbon:20240519T150000
DTSTAMP:20260421T201519
CREATED:20240508T163547Z
LAST-MODIFIED:20240508T163547Z
UID:19284-1716105600-1716130800@www.cm-marco-canaveses.pt
SUMMARY:X Festival de Percursos Pedestres do Marco de Canaveses
DESCRIPTION:A Secção de Pedestrianismo da Associação dos Amigos do Rio Ovelha (AARO) e a Câmara Municipal do Marco de Canaveses vão organizar\, no dia 19 de maio\, o X Festival de Percursos Pedestres do Marco de Canaveses. \nSob o tema “Caminhar pelo Desporto e pela Natureza”\, a atividade tem como intuito divulgar os percursos pedestres sinalizados existentes no concelho\, bem como promover a prática do pedestrianismo e as atividades desenvolvidas por outras associações e clubes da região\, em prol da natureza e do desporto ao ar livre. \nA abertura do secretariado será no Pavilhão da EB 2\,3 Carmen Miranda (coordenadas GPS 41°11’28.9″N 8°08’41.4″W)\, pelas 08h00\, onde os participantes\, para além de poderem optar pelo percurso que pretendem conhecer ou redescobrir\, poderão também\, no final da caminhada\, visitar uma exposição onde outras associações e clubes irão divulgar e partilhar as suas atividades e o seu trabalho\, bem como conhecer um pouco mais sobre a região. \nMais mais informações e inscrições\, até 11 de maio: \nhttps://docs.google.com/forms/d/e/1FAIpQLScHGm9yh9JebpPDhPHlzgmXEg-UGTGO-SgYyUiYR3xwqVyBtA/viewform
URL:https://www.cm-marco-canaveses.pt/evento/x-festival-de-percursos-pedestres-do-marco-de-canaveses/
LOCATION:EB 2\,3 Carmen Miranda\, Av. Futebol Clube do Marco\, 107\, Marco de Canaveses\, 4630-276\, Portugal
CATEGORIES:Desporto
ATTACH;FMTTYPE=image/jpeg:https://www.cm-marco-canaveses.pt/wp-content/uploads/2024/05/170716_CARTAZ-A3-refa-festival-de-percursos-2024-2-scaled.jpg
END:VEVENT
BEGIN:VEVENT
DTSTART;VALUE=DATE:20240524
DTEND;VALUE=DATE:20240527
DTSTAMP:20260421T201519
CREATED:20240502T090302Z
LAST-MODIFIED:20240510T163301Z
UID:19208-1716508800-1716767999@www.cm-marco-canaveses.pt
SUMMARY:Raízes 2024
DESCRIPTION:O Marco de Canaveses é conhecido pela sua rica tradição gastronómica\, pelos seus vinhos verdes de alta qualidade e pelo artesanato único e por isso\, nos dias 24\, 25 e 26 de maio o festival Raízes vai promover todo este património.  \nOrganizado pela Câmara Municipal\, em parceria com a Confraria do Anho Assado com Arroz de Forno\, a Rota dos Vinhos do Marco e a Associação dos Artesãos do Marco\, o evento vai proporcionar aos visitantes a oportunidade de experimentar a comida e os vinhos locais\, enquanto desfrutam de um ambiente repleto de animação e cultura. As atividades\, que irão ter lugar na rua Edgar Cardoso\, junto ao Parque Liberdade\,  incluem provas de vinhos e produtos locais\, mostras de gastronomia e artesanato\, além de música com grupos locais\, entre outros momentos. \nPrograma:
URL:https://www.cm-marco-canaveses.pt/evento/raizes-2024/
LOCATION:Rua Edgar Cardoso
CATEGORIES:Cultura
ATTACH;FMTTYPE=image/png:https://www.cm-marco-canaveses.pt/wp-content/uploads/2024/05/Captura-de-ecra-2024-05-02-as-16.56.40.png
END:VEVENT
BEGIN:VEVENT
DTSTART;VALUE=DATE:20240524
DTEND;VALUE=DATE:20240527
DTSTAMP:20260421T201519
CREATED:20240503T154628Z
LAST-MODIFIED:20240515T111946Z
UID:19240-1716508800-1716767999@www.cm-marco-canaveses.pt
SUMMARY:Fins de Semana Gastronómicos
DESCRIPTION:Nos dias 24\, 25 e 26 de maio venha até ao Marco de Canaveses degustar o Anho Assado com Arroz de Forno\, as Fatias do Freixo e os vinhos verde branco\, tinto ou rosé produzidos neste concelho hospitaleiro. \nApostar na divulgação das potencialidades turísticas locais e na dinamização da Rota dos Vinhos do Marco e dos restaurantes concelhios são os principais objetivos da Câmara Municipal do Marco de Canaveses que\, mais uma vez\, se associa à iniciativa “Fins de Semana Gastronómicos”\, promovida pela Entidade Regional de Turismo do Porto e Norte de Portugal. \nA edição deste ano\, decorre no 4.º fim de semana de maio e o visitante tem à sua disposição oito restaurantes que\, de 24 a 26 servirão a gastronomia típica marcuense. \nDe 24 a 26 de maio de 2024\, desfrute de um Fim de Semana Gastronómico tentador e aproveite também para visitar a Igreja de Santa Maria\, da autoria de Siza Vieira; a cidade romana de Tongobriga e se aprecia boa música tradicional\, não perca o Festival Raízes que decorre no mesmo fim de semana\, no centro da cidade. \n Restaurantes aderentes: \nRestaurante Albufeira; \nRestaurante A Ver o Douro; \nRestaurante Cancela Velha; \nRestaurante Pensão Magalhães; \nRestaurante O Plátano; \nA Tasca da Joana; \nRestaurante Aldeia 1375; \nRestaurante Alquimia Bistrô \n  \nAlojamentos aderentes: \nCasa de Campo de Santa Cristina; \nCasa da Quintã – Folhada; \nHostel Albufeira; \nCasa da Ribeira; \nCasa Senhora da Silva; \nMoradia Javardo \nPara os clientes dos Fins de Semana Gastronómicos\, ao pernoitar num dos Empreendimentos Turísticos aderentes podem beneficiar de 10% de desconto nas duas noites de sexta-feira e sábado. Também os estabelecimentos de restauração aderentes foram convidados a oferecer aos clientes\, que optem pelo prato típico\, um copo de vinho de “boas-vindas” da Rota dos Vinhos do Marco. \nQuanto às visitas nas Adegas Enoturísticas\, os clientes devem contactar o produtor e marcar uma prova de vinhos. \nQuintas Enoturísticas aderentes:  \nVinho Besta; \nParceiro; \nQuinta da Torre; \nTongobriga \nA animação fica a cargo do Festival das Raízes: evento gastronómico e cultural que promove a gastronomia\, os vinhos verdes\, o artesanato e a cultura popular do concelho. Neste evento\, os visitantes podem degustar a gastronomia\, os vinhos e os Produtos Locais do concelho\, bem como assistir a um programa de animação de cariz popular
URL:https://www.cm-marco-canaveses.pt/evento/fins-de-semana-gastronomicos-2/
LOCATION:Marco de Canaveses\, Marco de Canaveses\, Portugal
CATEGORIES:Turismo
ATTACH;FMTTYPE=image/jpeg:https://www.cm-marco-canaveses.pt/wp-content/uploads/2024/05/Fins-de-Semana-Gastronomicos-2024_Mupi_page-0001-scaled.jpg
END:VEVENT
BEGIN:VEVENT
DTSTART;TZID=Europe/Lisbon:20240524T100000
DTEND;TZID=Europe/Lisbon:20240524T120000
DTSTAMP:20260421T201519
CREATED:20240515T110457Z
LAST-MODIFIED:20240515T110457Z
UID:19338-1716544800-1716552000@www.cm-marco-canaveses.pt
SUMMARY:Workshop de Autoconhecimento & Treino de Competências
DESCRIPTION:No próximo dia 24 de maio\, entre as 10h e as 12h\, irá decorrer no Espaço MarcoInvest um ´Workshop de Autoconhecimento & Treino de Competências´\, uma iniciativa dinamizada pelo projeto Jovens Empreendedores\, em parceria com o Município.O Workshop destina-se a jovens e adultos e a participação é gratuita\, sujeita a inscrição.A inscrição pode ser realizada através do link:https://docs.google.com/…/1FAIpQLSftDLwhu2epRz…/viewform
URL:https://www.cm-marco-canaveses.pt/evento/workshop-de-autoconhecimento-treino-de-competencias/
LOCATION:Espaço MarcoInvest\, Av. Dr. Francisco Sá Carneiro\, 422\, Marco de Canaveses\, 4630 – 205\, Portugal
CATEGORIES:Educacional
ATTACH;FMTTYPE=image/jpeg:https://www.cm-marco-canaveses.pt/wp-content/uploads/2024/05/441450284_843232111171687_3141473589096274190_n.jpg
END:VEVENT
BEGIN:VEVENT
DTSTART;TZID=Europe/Lisbon:20240525T093000
DTEND;TZID=Europe/Lisbon:20240525T173000
DTSTAMP:20260421T201519
CREATED:20240515T111719Z
LAST-MODIFIED:20240515T111719Z
UID:19341-1716629400-1716658200@www.cm-marco-canaveses.pt
SUMMARY:Formação ´INQUIETAÇÕES PEDAGÓGICAS - o que fazer da violência no desporto´
DESCRIPTION:No próximo dia 25 de Maio\, irá decorrer no auditório Municipal Prof.ª Emília Monteiro\, uma formação com o tema ” INQUIETAÇÕES PEDAGÓGICAS – o que fazer da violência no desporto”\, uma iniciativa dinamizada pela Associação Karate do Porto e pela Escola Karate-do Marco de Canaveses.\n\n\n \n\n\nA formação é destinada a todos os adultos que detêm título de treinador de desporto\, técnicos de exercício físico\, diretores técnicos\, estudantes na área da educação física\, ou qualquer pessoa com interesse no tema.\n\n\n \n\n\nEsta terá inicio às 9:30 e terminará às 17:30\, sendo uma formação acreditada. O formador será Armando Inocentes.\n\n\n \n\n\nMais informações e inscrições: \n\n\nhttps://www.akporto.org/forma%C3%A7%C3%A3o
URL:https://www.cm-marco-canaveses.pt/evento/formacao-inquietacoes-pedagogicas-o-que-fazer-da-violencia-no-desporto/
LOCATION:Auditório Municipal Prof.ª Emília Monteiro\, Largo Sacadura Cabral\, Maarco de Canaveses\, Portugal
CATEGORIES:Desporto
ATTACH;FMTTYPE=image/jpeg:https://www.cm-marco-canaveses.pt/wp-content/uploads/2024/05/WhatsApp-Image-2024-05-08-at-16.34.15.jpeg
END:VEVENT
END:VCALENDAR